BEGIN:VCALENDAR
VERSION:2.0
PRODID:-//hacksw/handcal//NONSGML v1.0//EN
BEGIN:VEVENT
SUMMARY:TQ - U10 - Salon de Provence
UID:9e6075a5-d56b-4aaa-a717-4a4606139f08
DTSTART:20260508T220000Z
DTEND:20260510T220000Z
LOCATION:Localisation   
CATEGORIES:Sportif
STATUS:
URL;VALUE=URI:https://www.grenoble-hockey.com/evenements/2026/05/09/tq-u10-salon-de-provence-2433238
END:VEVENT
END:VCALENDAR
