BEGIN:VCALENDAR
VERSION:2.0
PRODID:-//hacksw/handcal//NONSGML v1.0//EN
BEGIN:VEVENT
SUMMARY:N2 Hommes - Salon
UID:77b27f11-1a69-4e70-ad85-60be885e6f56
DTSTART:20260426T120000Z
DTEND:20260426T220000Z
LOCATION:Localisation   Salon de provence
CATEGORIES:Sportif
STATUS:
URL;VALUE=URI:https://www.grenoble-hockey.com/evenements/2026/04/26/n2-hommes-salon-2433309
END:VEVENT
END:VCALENDAR
